BEGIN:VCALENDAR
VERSION:2.0
PRODID:-//Department Of Education//45075eab-809b-4f15-838e-6f766d53ecf7
BEGIN:VTIMEZONE
TZID:Australia/Sydney
TZURL:http://tzurl.org/zoneinfo-outlook/Australia/Sydney
X-LIC-LOCATION:Australia/Sydney
BEGIN:STANDARD
TZOFFSETFROM:+1100
TZOFFSETTO:+1000
TZNAME:AEST
DTSTART:19700405T030000
RRULE:FREQ=YEARLY;BYMONTH=4;BYDAY=1SU
END:STANDARD
BEGIN:DAYLIGHT
TZOFFSETFROM:+1000
TZOFFSETTO:+1100
TZNAME:AEDT
DTSTART:19701004T020000
RRULE:FREQ=YEARLY;BYMONTH=10;BYDAY=1SU
END:DAYLIGHT
END:VTIMEZONE
CALSCALE:GREGORIAN
X-WR-TIMEZONE:Australia/Sydney
BEGIN:VEVENT
DTSTART;TZID=Australia/Sydney:20200303T183041
DTEND;TZID=Australia/Sydney:20200303T203051
DTSTAMP:20200303T000000Z
UID:6098c73b-2139-40d6-b076-9bfa44310f2d
LOCATION:MHS Hall
SUMMARY;LANGUAGE=en-us:Year 6 into Year 7 (2021) Information Open Night
SEQUENCE:0
DESCRIPTION:Year 6 into Year 7 (2021) Information Open Night Parent/Carer(s) and students welcome.
END:VEVENT
TRANSP:TRANSPARENT
END:VCALENDAR
