BEGIN:VCALENDAR
VERSION:2.0
PRODID:-//Department Of Education//12dac221-6b05-487b-b422-8f2a99bcfe8f
BEGIN:VTIMEZONE
TZID:Australia/Sydney
TZURL:http://tzurl.org/zoneinfo-outlook/Australia/Sydney
X-LIC-LOCATION:Australia/Sydney
BEGIN:STANDARD
TZOFFSETFROM:+1100
TZOFFSETTO:+1000
TZNAME:AEST
DTSTART:19700405T030000
RRULE:FREQ=YEARLY;BYMONTH=4;BYDAY=1SU
END:STANDARD
BEGIN:DAYLIGHT
TZOFFSETFROM:+1000
TZOFFSETTO:+1100
TZNAME:AEDT
DTSTART:19701004T020000
RRULE:FREQ=YEARLY;BYMONTH=10;BYDAY=1SU
END:DAYLIGHT
END:VTIMEZONE
CALSCALE:GREGORIAN
X-WR-TIMEZONE:Australia/Sydney
BEGIN:VEVENT
DTSTART;TZID=Australia/Sydney:20200303T183009
DTEND;TZID=Australia/Sydney:20200303T203017
DTSTAMP:20200303T000000Z
UID:f28ca53d-edce-4e21-8824-ca37e74a41ee
LOCATION:MHS Hall
SUMMARY;LANGUAGE=en-us:Open Night - Year 6 into Year 7 (2021) Information Meeting
SEQUENCE:0
DESCRIPTION:Open Night - Year 6 into Year 7 (2021) Information Meeting
END:VEVENT
TRANSP:TRANSPARENT
END:VCALENDAR
